Workbook

Sheet Synthèse
A3: BCP ANIMATION- ENFANCE ET PERSONNES AGEES
A5: Synthèse Evaluations Epreuves professionnelles - Contrôle en cours de formation
J6: =(IF(ISBLANK(D2),"",""))
A7: Académie de : | D7: Session :
A8: Nom du candidat
A9: Etablissement de formation
A11: Epreuve E2 | B11: Contribution au fonctionnement de la structure ou du service par la mise en œuvre d’un projet d’animation | D11: Coefficient : 8 | E11: E2 : Dossier /53 | F11: {=IF(ISBLANK('E2 Dossier'!D34:F34),"",'E2 Dossier'!D34:F34)}
E12: E2 : Oral /53 | F12: {=IF(ISBLANK('E2 Oral'!D26:F26),"",'E2 Oral'!D26:F26)}
E13: E2 : PFMP /54 | F13: =IF(XOR(IF(ISBLANK('E2 PFMP Enfants'!D48),1,0),IF(ISBLANK('E2 PFMP PA'!D50),1,0)),'E2 PFMP Enfants'!D48+'E2 PFMP PA'!D50,"") | H13: =F13
E14: TOTAL /160 | F14: =IF(AND(F11<>"",F12<>"",F13<>""),SUM(F11:F13),"")
F15: Rq: pour assurer le report automatique de la note de PFMP, une seule des deux grilles E2 PFMP doit être renseignée, l'autre doit rester vierge.
A16: Epreuve E3 | B16: Pratiques professionnelles liées à l'animation | D16: Coefficient : 8
A17: Sous-épreuve E31 | B17: Animation visant le maintien de l’autonomie sociale et le bien être personnel en établissement ou à domicile | D17: Coefficient : 4 | E17: E31 /80 | F17: {=IF(('E31'!D48:F48)=0,"",('E31'!D48:F48))}
A18: Sous-épreuve E32 | B18: Animation visant l’épanouissement, la socialisation et l’exercice des droits citoyens | D18: Coefficient : 4 | E18: E32 /80 | F18: {=IF(('E32'!D46:F46)=0,"",('E32'!D46:F46))}

Sheet E2 Dossier
A1: Académie de : | B1: =IF(ISBLANK('Synthèse'!B7),"",'Synthèse'!B7) | D1: Session : | E1: =IF(ISBLANK('Synthèse'!E7),"",'Synthèse'!E7)
A2: Nom du candidat | B2: =IF(ISBLANK('Synthèse'!B8),"",'Synthèse'!B8)
A3: Etablissement de formation | B3: =IF(ISBLANK('Synthèse'!B9),"",'Synthèse'!B9) | D3: Date :
A5: BCP ANIMATION ENFANCE ET PERSONNES AGEES - CCF
A6: Epreuve E2 : Contribution au fonctionnement de la structure ou du service par la mise en œuvre d’un projet d’animation
A7: Epreuve orale prenant appui sur un dossier
B9: PARTIE ECRITE : DOSSIER relatif au projet d’animation
A10: Compétences évaluées | B10: Critères d’évaluation | C10: Indicateurs et niveaux de réussite | G10: Note
C11: Non réussi 10% | D11: Insuffisamment réussi 35% | E11: Réussi 70% | F11: Bien réussi 100%
A13: Prendre en compte le contexte d’exercice et le projet de la structure, | B13: Caractéristiques du milieu professionnel | C13: Ne prend pas en compte les caractéristiques du public accueilli, de la structure (dont les axes du projet) | D13: Identifie partiellement les caractéristiques du public accueilli, de la structure (dont les axes du projet), du contexte d’exercice | E13: Prend en compte la majorité des caractéristiques du public accueilli, de la structure (dont les axes du projet), du contexte d’exercice | F13: Prend en compte et analyse avec rigueur les caractéristiques du public accueilli, de la structure (dont les axes du projet), du contexte d’exercice | H13: =IF(I14>1,"ATTENTION! TROP DE CROIX","")
B14: Barème :4 points | G14: =IF(ISBLANK(F14),IF(ISBLANK(E14),IF(ISBLANK(D14),IF(ISBLANK(C14),"X",0.1),0.35),0.7),1)*4 -> #VALUE! | I14: =COUNTA(C14:F14) -> 0
B15: Place et rôle des acteurs | C15: N’identifie pas la place et le rôle des acteurs | D15: Repère de manière incomplète la place et les rôles des acteurs | E15: Identifie la place et les rôles des acteurs | F15: Analyse avec justesse la place et les rôles des acteurs | H15: =IF(I16>1,"ATTENTION! TROP DE CROIX","")
B16: Barème : 3 points | G16: =IF(ISBLANK(F16),IF(ISBLANK(E16),IF(ISBLANK(D16),IF(ISBLANK(C16),"X",0.1),0.35),0.7),1)*3 -> #VALUE! | I16: =COUNTA(C16:F16) -> 0
B17: Positionnement de l'animateur dans le cadre du travail assuré | C17: Ne respecte pas les rôles des différents acteurs | D17: Respecte les rôles des différents acteurs | E17: Respecte les rôles des différents acteurs présents dans la structure et contribue au travail d'équipe | F17: Sait agir, réagir et proposer en fonction des situations rencontrées dans la structure et au sein de l'équipe | H17: =IF(I18>1,"ATTENTION! TROP DE CROIX","")
B18: Barème :4 points | G18: =IF(ISBLANK(F18),IF(ISBLANK(E18),IF(ISBLANK(D18),IF(ISBLANK(C18),"X",0.1),0.35),0.7),1)*4 -> #VALUE! | I18: =COUNTA(C18:F18) -> 0
A19: Concevoir et réaliser un projet d’animation | B19: Eléments de la démarche de projet | C19: Construit un projet sans méthodologie | D19: Construit un projet avec une méthodologie incomplète et propose un projet peu réaliste ou inadapté aux attentes, besoins des publics | E19: Construit un projet avec méthodologie et des objectifs en lien avec les attentes, besoins des publics et caractéristiques du milieu professionnel | F19: Construit avec une méthodologie rigoureuse, un projet d’animation avec des objectifs clairs et pertinents en cohérence avec les attentes et besoins des publics, les objectifs de la structure et aux caractéristiques du milieu | H19: =IF(I20>1,"ATTENTION! TROP DE CROIX","")
B20: Barème :12 points | G20: =IF(ISBLANK(F20),IF(ISBLANK(E20),IF(ISBLANK(D20),IF(ISBLANK(C20),"X",0.1),0.35),0.7),1)*12 -> #VALUE! | I20: =COUNTA(C20:F20) -> 0
B21: Projet mis en œuvre et réalisé selon les principes de son élaboration | C21: N’atteint pas les objectifs définis au départ, projet non réalisé | D21: Atteint en partie les objectifs définis au départ, projet incomplètement réalisé | E21: Réalise le projet et a atteint la majorité des objectifs définis au départ | F21: A atteint tous les objectifs définis au départ tout en adaptant les actions au public et aux aléas | H21: =IF(I22>1,"ATTENTION! TROP DE CROIX","")
B22: Barème :8 points | G22: =IF(ISBLANK(F22),IF(ISBLANK(E22),IF(ISBLANK(D22),IF(ISBLANK(C22),"X",0.1),0.35),0.7),1)*8 -> #VALUE! | I22: =COUNTA(C22:F22) -> 0
B23: Démarche et outils d’évaluation | C23: N’utilise pas d’outils d’évaluation ou ne les maîtrise pas | D23: Mobilise partiellement quelques outils d’évaluation | E23: Choisit les outils d’évaluation adaptés | F23: Adapte et/ou élabore des outils d’évaluation opérationnels tout au long des étapes du projet | H23: =IF(I24>1,"ATTENTION! TROP DE CROIX","")
B24: Barème :6 points | G24: =IF(ISBLANK(F24),IF(ISBLANK(E24),IF(ISBLANK(D24),IF(ISBLANK(C24),"X",0.1),0.35),0.7),1)*6 -> #VALUE! | I24: =COUNTA(C24:F24) -> 0
A25: Mettre en œuvre une communication professionnelle au sein de la structure et en direction des acteurs | B25: Efficacité de la communication écrite | C25: Rédige le projet d’animation de façon inappropriée et inefficace | D25: Rédige le projet d’animation de manière peu structurée Propose dans le cadre du projet d’animation, des supports de communication peu pertinents | E25: Rédige le projet d’animation avec rigueur Propose dans le cadre du projet d’animation des supports de communication variés | F25: Fait preuve de qualités rédactionnelles pour le projet d’animation Elabore personnellement dans le cadre du projet d’animation des supports de communication pertinents, variés et opérationnels | H25: =IF(I26>1,"ATTENTION! TROP DE CROIX","")
B26: Barème :3 points | G26: =IF(ISBLANK(F26),IF(ISBLANK(E26),IF(ISBLANK(D26),IF(ISBLANK(C26),"X",0.1),0.35),0.7),1)*3 -> #VALUE! | I26: =COUNTA(C26:F26) -> 0
B27: Techniques de communication adaptées aux situations professionnelles et aux différents publics | C27: Ne rend pas compte des échanges avec les différents acteurs | D27: Ne rend pas suffisamment compte des échanges avec les différents acteurs | E27: Rend compte de sa contribution dans les échanges avec les différents acteurs | F27: Rend compte de ses initiatives favorisant les échanges entre les différents acteurs | H27: =IF(I28>1,"ATTENTION! TROP DE CROIX","")
B28: Barème :6 points | G28: =IF(ISBLANK(F28),IF(ISBLANK(E28),IF(ISBLANK(D28),IF(ISBLANK(C28),"X",0.1),0.35),0.7),1)*6 -> #VALUE! | I28: =COUNTA(C28:F28) -> 0
B29: Pertinence et fiabilité de la sélection des informations | C29: N’utilise pas d’informations relatives au public accueilli, à la structure, au contexte d’exercice | D29: Utilise partiellement des informations fiables (relatives au public accueilli, à la structure, au contexte d’exercice) | E29: Sélectionne des informations fiables (relatives au public accueilli, à la structure, au contexte d’exercice) | F29: Produit des informations fiables et pertinentes (relatives au public accueilli, à la structure, au contexte d’exercice) | H29: =IF(I30>1,"ATTENTION! TROP DE CROIX","")
B30: Barème :2 points | G30: =IF(ISBLANK(F30),IF(ISBLANK(E30),IF(ISBLANK(D30),IF(ISBLANK(C30),"X",0.1),0.35),0.7),1)*2 -> #VALUE! | I30: =COUNTA(C30:F30) -> 0
A31: Respecter les critères de conformité du dossier | B31: Une dizaine de pages hors annexes Présentation du projet d’animation, de sa conception à son évaluation | C31: Ne respecte pas les critères de conformité du dossier | D31: Respecte partiellement les critères de conformité du dossier | E31: Respecte la majorité des critères de conformité du dossier | F31: Respecte tous les critères de conformité du dossier | H31: =IF(I32>1,"ATTENTION! TROP DE CROIX","")
B32: Barème :5 points | G32: =IF(ISBLANK(F32),IF(ISBLANK(E32),IF(ISBLANK(D32),IF(ISBLANK(C32),"X",0.1),0.35),0.7),1)*5 -> #VALUE! | I32: =COUNTA(C32:F32) -> 0
A33: NOTE CALCULEE AUTOMATIQUEMENT ( Indicative) | D33: =IF(I33=10,SUM(G14,G16,G18,G20,G22,G24,G26,G28,G30,G32),"Calcul impossible-Revoir le nb de positionnements") -> Calcul impossible-Revoir le nb de positionnements | G33: / 53 | I33: =SUM(I32,I30,I28,I26,I24,I22)+I20+I18+I16+I14 -> 0
A34: NOTE PROPOSEE PAR LE JURY | G34: / 53
A36: Noms et prénoms des évaluateurs | C36: Fonctions | D36: Bilan et appréciations (justifier toute note inférieure à 10/20)

Sheet E2 Oral
A1: Académie de : | B1: =IF(ISBLANK('Synthèse'!B7),"",'Synthèse'!B7) | D1: Session : | E1: =IF(ISBLANK('Synthèse'!E7),"",'Synthèse'!E7)
A2: Nom du candidat | B2: =IF(ISBLANK('Synthèse'!B8),"",'Synthèse'!B8)
A3: Etablissement de formation | B3: =IF(ISBLANK('Synthèse'!B9),"",'Synthèse'!B9) | D3: Date :
A5: BCP ANIMATION ENFANCE ET PERSONNES AGEES - CCF
A6: Epreuve E2 : Contribution au fonctionnement de la structure ou du service par la mise en œuvre d’un projet d’animation
A7: Epreuve orale prenant appui sur un dossier
B9: PARTIE ORALE : Exposé et entretien autour du projet d’animation
A10: Compétences évaluées | B10: Critères d’évaluation | C10: Indicateurs et niveaux de réussite | G10: Note
C11: Non réussi 10% | D11: Insuffisamment réussi 35% | E11: Réussi 70% | F11: Bien réussi 100%
A13: Présenter un projet d’animation en prenant appui sur un support de communication | B13: Support de communication de l’exposé Structuration de l’exposé (contexte d’exercice professionnel, démarche méthodologique, planification, mise en évidence des points essentiels …) | C13: Ne respecte pas la structuration de l’exposé ni le support de communication | D13: Respecte partiellement la structuration de l’exposé et le support de communication | E13: Propose un support de communication et une structuration d’exposé adaptés aux attendus | F13: Produit un support de communication pertinent et une structuration de l’exposé de qualité | H13: =IF(I14>1,"ATTENTION! TROP DE CROIX","")
B14: Barème :11 points | G14: =IF(ISBLANK(F14),IF(ISBLANK(E14),IF(ISBLANK(D14),IF(ISBLANK(C14),"X",0.1),0.35),0.7),1)*11 -> #VALUE! | I14: =COUNTA(C14:F14) -> 0
B15: Respect du temps imparti Clarté de l’expression Utilisation d’un vocabulaire professionnel Aptitude à se dégager de ses notes Dynamisme, ton, conviction | C15: Ne respecte pas les attendus de l’exposé | D15: Respecte partiellement les attendus de l’exposé | E15: Respecte la majorité des attendus de l’exposé | F15: Respecte tous les attendus de l’exposé | H15: =IF(I16>1,"ATTENTION! TROP DE CROIX","")
B16: Barème : 7 points | G16: =IF(ISBLANK(F16),IF(ISBLANK(E16),IF(ISBLANK(D16),IF(ISBLANK(C16),"X",0.1),0.35),0.7),1)*7 -> #VALUE! | I16: =COUNTA(C16:F16) -> 0
A17: Justifier et approfondir les éléments constitutifs du projet d’animation | B17: Maîtrise des savoirs associés en lien avec le projet d’animation conduit : Connaissances en sciences médico-sociales : connaissance des milieux professionnels et des publics, compréhension des faits sociétaux et phénomènes sociaux dont éducation, co-éducation et rôles sociaux… Cadre règlementaire et organisationnel de l’activité de travail : cadre juridique de l’activité de travail, organisation du fonctionnement des structures et des services, droit et communication, cadre déontologique… | C17: Ne maîtrise pas les savoirs associés en lien avec le projet d’animation | D17: Montre des lacunes ou commet des erreurs sur les savoirs associés en lien avec le projet d’animation | E17: Mobilise la majorité des savoirs associés en lien avec le projet d’animation | F17: Propose des réponses pertinentes argumentées et précises en lien avec le projet d’animation | H17: =IF(I18>1,"ATTENTION! TROP DE CROIX","")
B18: Barème :10 points | G18: =IF(ISBLANK(F18),IF(ISBLANK(E18),IF(ISBLANK(D18),IF(ISBLANK(C18),"X",0.1),0.35),0.7),1)*10 -> #VALUE! | I18: =COUNTA(C18:F18) -> 0
B19: Maîtrise des techniques professionnelles en lien avec le projet conduit : méthodologie d’intervention en animation dont animateur et travail d’équipe, outils de communication professionnelle en animation, techniques d’animation d’un groupe.. | C19: Ne met pas en œuvre de techniques d’animation adaptées aux situations professionnelles | D19: Mobilise quelques techniques d’animation adaptées aux situations professionnelles | E19: Met en œuvre plusieurs techniques d’animation adaptées aux situations professionnelles | F19: Maîtrise différentes techniques d’animation en fonction des situations professionnelles | H19: =IF(I20>1,"ATTENTION! TROP DE CROIX","")
B20: Barème :8 points | G20: =IF(ISBLANK(F20),IF(ISBLANK(E20),IF(ISBLANK(D20),IF(ISBLANK(C20),"X",0.1),0.35),0.7),1)*8 -> #VALUE! | I20: =COUNTA(C20:F20) -> 0
B21: Justification et approfondissement des éléments présentés dans le dossier et à l’oral notamment la démarche méthodologique choisie et la planification du travail | C21: Ne formule pas d’argumentation sur les éléments présentés dans le dossier et l’exposé | D21: Formule quelques argumentations sur les éléments présentés dans le dossier et l’exposé | E21: Argumente convenablement les éléments présentés dans le dossier et l’exposé | F21: Propose une argumentation riche et de qualité, des éléments présentés dans le dossier et l’exposé | H21: =IF(I22>1,"ATTENTION! TROP DE CROIX","")
B22: Barème :7 points | G22: =IF(ISBLANK(F22),IF(ISBLANK(E22),IF(ISBLANK(D22),IF(ISBLANK(C22),"X",0.1),0.35),0.7),1)*7 -> #VALUE! | I22: =COUNTA(C22:F22) -> 0
B23: Qualité d’écoute et aptitude au dialogue Utilisation d’un vocabulaire professionnel Réactivité, dynamisme, conviction. | C23: Ne respecte pas les attendus de l’entretien | D23: Respecte partiellement les attendus de l’entretien | E23: Respecte la majorité des attendus de l’entretien | F23: Respecte tous les attendus de l’entretien | H23: =IF(I24>1,"ATTENTION! TROP DE CROIX","")
B24: Barème :10 points | G24: =IF(ISBLANK(F24),IF(ISBLANK(E24),IF(ISBLANK(D24),IF(ISBLANK(C24),"X",0.1),0.35),0.7),1)*10 -> #VALUE! | I24: =COUNTA(C24:F24) -> 0
A25: NOTE CALCULEE AUTOMATIQUEMENT ( Indicative) | D25: =IF(I25=6,SUM(G14,G16,G18,G20,G22,G24),"Calcul impossible-Revoir le nb de positionnements") -> Calcul impossible-Revoir le nb de positionnements | G25: / 53 | I25: =SUM(I24,I22,I20,I18,I16,I14) -> 0
A26: NOTE PROPOSEE PAR LE JURY | G26: / 53
A28: Noms et prénoms des évaluateurs | C28: Fonctions | D28: Bilan et appréciations (justifier toute note inférieure à 10/20)

Sheet E2 PFMP Enfants
A1: Académie de : | B1: =IF(ISBLANK('Synthèse'!B7),"",'Synthèse'!B7) | D1: Session : | E1: =IF(ISBLANK('Synthèse'!E7),"",'Synthèse'!E7)
A2: Nom du candidat | B2: =IF(ISBLANK('Synthèse'!B8),"",'Synthèse'!B8) | D2: Date et lieu des 8 semaines de PFMP:
A3: Etablissement de formation | B3: =IF(ISBLANK('Synthèse'!B9),"",'Synthèse'!B9) | D3: Date de l'évaluation:
A5: BCP ANIMATION ENFANCE ET PERSONNES AGEES - CCF
A6: Epreuve E2 : Contribution au fonctionnement de la structure ou du service par la mise en œuvre d’un projet d’animation
A7: Activités menées en PFMP relative au projet d’animation auprès d’enfants
B9: Activités menées en PFMP Public Enfance en lien avec le projet d’animation
A10: Compétences évaluées | B10: Critères d’évaluation | C10: Indicateurs et niveaux de réussite | G10: Note
C11: Non réussi 10% | D11: Insuffisamment réussi 35% | E11: Réussi 70% | F11: Bien réussi 100%
A13: Prendre en compte le contexte d’exercice et le projet de la structure, | B13: Caractéristiques du milieu professionnel | C13: Ne prend pas en compte les caractéristiques du public accueilli, de la structure (dont les axes du projet) | D13: Identifie partiellement les caractéristiques du public accueilli, de la structure (dont les axes du projet), du contexte d’exercice | E13: Prend en compte la majorité des caractéristiques du public accueilli, de la structure (dont les axes du projet), du contexte d’exercice | F13: Prend en compte et analyse avec rigueur les caractéristiques du public accueilli, de la structure (dont les axes du projet), du contexte d’exercice | H13: =IF(I14>1,"ATTENTION! TROP DE CROIX","")
B14: Barème :3 points | G14: =IF(ISBLANK(F14),IF(ISBLANK(E14),IF(ISBLANK(D14),IF(ISBLANK(C14),"X",0.1),0.35),0.7),1)*3 -> #VALUE! | I14: =COUNTA(C14:F14) -> 0
B15: Place et rôle des acteurs | C15: N’identifie pas la place et le rôle des acteurs | D15: Repère de manière incomplète la place et les rôles des acteurs | E15: Identifie la place et les rôles des acteurs | F15: Analyse avec justesse la place et les rôles des acteurs | H15: =IF(I16>1,"ATTENTION! TROP DE CROIX","")
B16: Barème : 2 points | G16: =IF(ISBLANK(F16),IF(ISBLANK(E16),IF(ISBLANK(D16),IF(ISBLANK(C16),"X",0.1),0.35),0.7),1)*2 -> #VALUE! | I16: =COUNTA(C16:F16) -> 0
B17: Positionnement de l'animateur dans le cadre du travail assuré | C17: Ne respecte pas les rôles des différents acteurs | D17: Respecte les rôles des différents acteurs | E17: Respecte les rôles des différents acteurs présents dans la structure et contribue au travail d'équipe | F17: Sait agir, réagir et proposer en fonction des situations rencontrées dans la structure et au sein de l'équipe | H17: =IF(I18>1,"ATTENTION! TROP DE CROIX","")
B18: Barème :3 points | G18: =IF(ISBLANK(F18),IF(ISBLANK(E18),IF(ISBLANK(D18),IF(ISBLANK(C18),"X",0.1),0.35),0.7),1)*3 -> #VALUE! | I18: =COUNTA(C18:F18) -> 0
A19: Concevoir et réaliser un projet d’animation | B19: Eléments de la démarche de projet | C19: Construit un projet sans méthodologie | D19: Construit un projet avec une méthodologie incomplète et propose un projet peu réaliste ou inadapté aux attentes, besoins des publics | E19: Construit un projet avec méthodologie et des objectifs en lien avec les attentes, besoins des publics et caractéristiques du milieu professionnel | F19: Construit avec une méthodologie rigoureuse, un projet d’animation avec des objectifs clairs et pertinents en cohérence avec les attentes et besoins des publics, les objectifs de la structure et aux caractéristiques du milieu | H19: =IF(I20>1,"ATTENTION! TROP DE CROIX","")
B20: Barème :7 points | G20: =IF(ISBLANK(F20),IF(ISBLANK(E20),IF(ISBLANK(D20),IF(ISBLANK(C20),"X",0.1),0.35),0.7),1)*7 -> #VALUE! | I20: =COUNTA(C20:F20) -> 0
B21: Projet mis en œuvre et réalisé selon les principes de son élaboration | C21: N’atteint pas les objectifs définis au départ, projet non réalisé | D21: Atteint en partie les objectifs définis au départ, projet incomplètement réalisé | E21: Réalise le projet et a atteint la majorité des objectifs définis au départ | F21: A atteint tous les objectifs définis au départ tout en adaptant les actions au public et aux aléas | H21: =IF(I22>1,"ATTENTION! TROP DE CROIX","")
B22: Barème :3,5 points | G22: =IF(ISBLANK(F22),IF(ISBLANK(E22),IF(ISBLANK(D22),IF(ISBLANK(C22),"X",0.1),0.35),0.7),1)*3.5 -> #VALUE! | I22: =COUNTA(C22:F22) -> 0
B23: Démarche et outils d’évaluation | C23: N’utilise pas d’outils d’évaluation ou ne les maîtrise pas | D23: Mobilise partiellement quelques outils d’évaluation | E23: Choisit les outils d’évaluation adaptés | F23: Adapte et/ou élabore des outils d’évaluation opérationnels tout au long des étapes du projet | H23: =IF(I24>1,"ATTENTION! TROP DE CROIX","")
B24: Barème :3 points | G24: =IF(ISBLANK(F24),IF(ISBLANK(E24),IF(ISBLANK(D24),IF(ISBLANK(C24),"X",0.1),0.35),0.7),1)*3 -> #VALUE! | I24: =COUNTA(C24:F24) -> 0
A25: Concevoir des activités socioéducatives et socioculturelles | B25: Activités socioéducatives et socioculturelles - adaptées aux attentes et demandes du public - en lien avec le projet de la structure et le projet d’animation - favorisant la prise d’initiative, la participation et l’implication des publics - adaptées aux contraintes de l’environnement - construites en collaboration avec l’équipe de la structure, - dans le respect des cadres réglementaires et de la sécurité | C25: Propose une activité socioéducative ou socioculturelle qui ne respecte pas la sécurité et le cadre réglementaire | D25: Propose une activité socioéducative ou socioculturelle qui ne prend pas en compte le projet de la structure et les attentes du public | E25: Conçoit une activité socioéducative ou socioculturelle qui prend en compte : -le projet et les moyens disponibles de la structure -les attentes du public -la sécurité et le cadre réglementaire | F25: Conçoit une activité socioéducative ou socioculturelle qui prend en compte tous les critères dans le cadre d’une progression pédagogique définie | H25: =IF(I26>1,"ATTENTION! TROP DE CROIX","")
B26: Barème : 2,5 points | G26: =IF(ISBLANK(F26),IF(ISBLANK(E26),IF(ISBLANK(D26),IF(ISBLANK(C26),"X",0.1),0.35),0.7),1)*2.5 -> #VALUE! | I26: =COUNTA(C26:F26) -> 0
B27: Démarche pédagogique d’animation justifiée et adaptée aux objectifs généraux et opérationnels du projet d’animation | C27: N’adopte pas de démarche pédagogique d’animation | D27: Adopte une démarche pédagogique d’animation peu adaptée aux objectifs du projet d’animation | E27: Adopte des démarches d’animation adaptées aux objectifs du projet d’animation | F27: onçoit des démarches pédagogiques d’animation adaptées aux objectifs du projet d’animation | H27: =IF(I28>1,"ATTENTION! TROP DE CROIX","")
B28: Barème : 1,5 points | G28: =IF(ISBLANK(F28),IF(ISBLANK(E28),IF(ISBLANK(D28),IF(ISBLANK(C28),"X",0.1),0.35),0.7),1)*1.5 -> #VALUE! | I28: =COUNTA(C28:F28) -> 0
B29: Démarche pédagogique justifiée, prenant en compte les intentions des publics et permettant la réalisation de leurs projets | C29: N’adopte pas de démarche pédagogique d’animation permettant la réalisation du projet du public | D29: Adopte une démarche pédagogique d’animation peu adaptée aux objectifs du projet | E29: Adopte des démarches d’animation adaptées aux objectifs du projet du public | F29: Conçoit des démarches pédagogiques d’animation adaptées aux objectifs du projet du public | H29: =IF(I30>1,"ATTENTION! TROP DE CROIX","")
B30: Barème : 1 point | G30: =IF(ISBLANK(F30),IF(ISBLANK(E30),IF(ISBLANK(D30),IF(ISBLANK(C30),"X",0.1),0.35),0.7),1)*1 -> #VALUE! | I30: =COUNTA(C30:F30) -> 0
A31: Réaliser des activités socioéducatives et socioculturelles | B31: Mise en œuvre des activités et des techniques participatives d’animation Qualité et pertinence des activités proposées Gestion du temps, des espaces et des matériels Respect des règles et consignes de sécurité | C31: N’assure pas de manière satisfaisante la sécurité des enfants | D31: Propose en toute sécurité, une activité peu adaptée aux objectifs d’épanouissement, de socialisation et d’exercice des droits citoyens. | E31: Propose en toute sécurité une activité qui concourt à l’épanouissement, la socialisation et l’exercice des droits citoyens S’inscrit dans le projet de la structure | F31: Anime en toute sécurité une séance d’animation pertinente permettant l’épanouissement, la socialisation et l’exercice des droits citoyens, mobilisant des démarches éducatives pertinentes S’inscrit dans le projet de la structure | H31: =IF(I32>1,"ATTENTION! TROP DE CROIX","")
B32: Barème : 2,5 points | G32: =IF(ISBLANK(F32),IF(ISBLANK(E32),IF(ISBLANK(D32),IF(ISBLANK(C32),"X",0.1),0.35),0.7),1)*2.5 -> #VALUE! | I32: =COUNTA(C32:F32) -> 0
B33: Régulation du groupe Adaptation aux situations rencontrées Posture d’écoute et de médiation Adaptation du déroulement de l’activité aux réactions du groupe | C33: Ne tient pas compte des réactions des enfants lors de l’animation | D33: N’adapte pas suffisamment l’activité aux comportements des enfants N'est pas suffisamment dans une posture d’écoute | E33: Gère le groupe et adapte le déroulement de l’activité aux réactions, aux imprévus | F33: Gère avec efficacité le groupe d’enfants et sa dynamique en fonction des situations, en respectant la dimension individuelle et collective jusqu’à une posture de médiation | H33: =IF(I34>1,"ATTENTION! TROP DE CROIX","")
B34: Barème :1,5 points | G34: =IF(ISBLANK(F34),IF(ISBLANK(E34),IF(ISBLANK(D34),IF(ISBLANK(C34),"X",0.1),0.35),0.7),1)*1.5 -> #VALUE! | I34: =COUNTA(C34:F34) -> 0
B35: Outils d’évaluation pertinents Prise en compte des avis du public dans la perspective de l’évolution de l’activité ou d’une nouvelle activité | C35: Ne propose pas d’évaluation | D35: Propose une évaluation sommaire avec les participants à la fin des activités et ne la prend pas en compte | E35: Propose, à l’aide d’un outil pertinent, une évaluation aux participants à la fin des activités et la prend en compte pour faire évoluer l’action | F35: Propose, à l’aide d’un outil qu’il sait élaborer ou adapter, une évaluation avec les participants à la fin des activités et la prend en compte pour faire évoluer l’action | H35: =IF(I36>1,"ATTENTION! TROP DE CROIX","")
B36: Barème :1,5 points | G36: =IF(ISBLANK(F36),IF(ISBLANK(E36),IF(ISBLANK(D36),IF(ISBLANK(C36),"X",0.1),0.35),0.7),1)*1.5 -> #VALUE! | I36: =COUNTA(C36:F36) -> 0
A37: Encadrer le public sur l’intégralité du temps d’accueil | B37: Accueils adaptés aux publics et aux différents temps de la journée Respect des cadres prescrits sur la journée Habitudes de vie et rituels des enfants ou personnes pris en compte | C37: Ne gère pas les temps transitionnels , informels ou de vie quotidienne | D37: Gère les temps informels, transitionnels ou de vie quotidienne sans prendre en compte les habitudes ou installer des rituels | E37: Anime les temps informels, transitionnels ou de vie quotidienne dans le respect des cadres prescrits sur la journée | F37: Anime les temps informels, transitionnels ou de vie quotidienne, en cherchant à favoriser l'autonomie des enfants et le respect de soi et des autres | H37: =IF(I38>1,"ATTENTION! TROP DE CROIX","")
B38: Barème :5,5 points | G38: =IF(ISBLANK(F38),IF(ISBLANK(E38),IF(ISBLANK(D38),IF(ISBLANK(C38),"X",0.1),0.35),0.7),1)*5.5 -> #VALUE! | I38: =COUNTA(C38:F38) -> 0
A39: Mettre en œuvre une communication professionnelle au sein de la structure et en direction des acteurs | B39: Efficacité de la communication écrite | C39: Rédige le projet d’animation de façon inappropriée et inefficace | D39: Rédige le projet d’animation de manière peu structurée Propose dans le cadre du projet d’animation, des supports de communication peu pertinents | E39: Rédige le projet d’animation avec rigueur Propose dans le cadre du projet d’animation des supports de communication variés | F39: Fait preuve de qualités rédactionnelles pour le projet d’animation Elabore personnellement dans le cadre du projet d’animation des supports de communication pertinents, variés et opérationnels | H39: =IF(I40>1,"ATTENTION! TROP DE CROIX","")
B40: Barème :1,5 points | G40: =IF(ISBLANK(F40),IF(ISBLANK(E40),IF(ISBLANK(D40),IF(ISBLANK(C40),"X",0.1),0.35),0.7),1)*1.5 -> #VALUE! | I40: =COUNTA(C40:F40) -> 0
B41: Techniques de communication adaptées aux situations professionnelles et aux différents publics | C41: Ne rend pas compte des échanges avec les différents acteurs | D41: Ne rend pas suffisamment compte des échanges avec les différents acteurs | E41: Rend compte de sa contribution dans les échanges avec les différents acteurs | F41: Rend compte de ses initiatives favorisant les échanges entre les différents acteurs | H41: =IF(I42>1,"ATTENTION! TROP DE CROIX","")
B42: Barème :2,5 points | G42: =IF(ISBLANK(F42),IF(ISBLANK(E42),IF(ISBLANK(D42),IF(ISBLANK(C42),"X",0.1),0.35),0.7),1)*2.5 -> #VALUE! | I42: =COUNTA(C42:F42) -> 0
B43: Pertinence et fiabilité de la sélection des informations | C43: N’utilise pas d’informations relatives au public accueilli, à la structure, au contexte d’exercice | D43: Utilise partiellement des informations fiables (relatives au public accueilli, à la structure, au contexte d’exercice) | E43: Sélectionne des informations fiables (relatives au public accueilli, à la structure, au contexte d’exercice) | F43: Produit des informations fiables et pertinentes (relatives au public accueilli, à la structure, au contexte d’exercice) | H43: =IF(I44>1,"ATTENTION! TROP DE CROIX","")
...

Sheet E2 PFMP PA
A1: Académie de : | B1: =IF(ISBLANK('Synthèse'!B7),"",'Synthèse'!B7) | D1: Session : | E1: =IF(ISBLANK('Synthèse'!E7),"",'Synthèse'!E7)
A2: Nom du candidat | B2: =IF(ISBLANK('Synthèse'!B8),"",'Synthèse'!B8) | D2: Date et lieu des 8 semaines de PFMP
A3: Etablissement de formation | B3: =IF(ISBLANK('Synthèse'!B9),"",'Synthèse'!B9) | D3: Date de l'évaluation:
A5: BCP ANIMATION ENFANCE ET PERSONNES AGEES - CCF
A6: Epreuve E2 : Contribution au fonctionnement de la structure ou du service par la mise en œuvre d’un projet d’animation
A7: Activités menées en PFMP relative au projet d’animation auprès des personnes âgées
B9: Activités menées en PFMP Public Personnes âgées en lien avec le projet d’animation
A10: Compétences évaluées | B10: Critères d’évaluation | C10: Indicateurs et niveaux de réussite | G10: Note
C11: Non réussi 10% | D11: Insuffisamment réussi 35% | E11: Réussi 70% | F11: Bien réussi 100%
A13: Prendre en compte le contexte d’exercice et le projet de la structure, | B13: Caractéristiques du milieu professionnel | C13: Ne prend pas en compte les caractéristiques du public accueilli, de la structure (dont les axes du projet) | D13: Identifie partiellement les caractéristiques du public accueilli, de la structure (dont les axes du projet), du contexte d’exercice | E13: Prend en compte la majorité des caractéristiques du public accueilli, de la structure (dont les axes du projet), du contexte d’exercice | F13: Prend en compte et analyse avec rigueur les caractéristiques du public accueilli, de la structure (dont les axes du projet), du contexte d’exercice | H13: =IF(I14>1,"ATTENTION! TROP DE CROIX","")
B14: Barème :3 points | G14: =IF(ISBLANK(F14),IF(ISBLANK(E14),IF(ISBLANK(D14),IF(ISBLANK(C14),"X",0.1),0.35),0.7),1)*3 -> #VALUE! | I14: =COUNTA(C14:F14) -> 0
B15: Place et rôle des acteurs | C15: N’identifie pas la place et le rôle des acteurs | D15: Repère de manière incomplète la place et les rôles des acteurs | E15: Identifie la place et les rôles des acteurs | F15: Analyse avec justesse la place et les rôles des acteurs | H15: =IF(I16>1,"ATTENTION! TROP DE CROIX","")
B16: Barème : 2 points | G16: =IF(ISBLANK(F16),IF(ISBLANK(E16),IF(ISBLANK(D16),IF(ISBLANK(C16),"X",0.1),0.35),0.7),1)*2 -> #VALUE! | I16: =COUNTA(C16:F16) -> 0
B17: Positionnement de l'animateur dans le cadre du travail assuré | C17: Ne respecte pas les rôles des différents acteurs | D17: Respecte les rôles des différents acteurs | E17: Respecte les rôles des différents acteurs présents dans la structure et contribue au travail d'équipe | F17: Sait agir, réagir et proposer en fonction des situations rencontrées dans la structure et au sein de l'équipe | H17: =IF(I18>1,"ATTENTION! TROP DE CROIX","")
B18: Barème :3 points | G18: =IF(ISBLANK(F18),IF(ISBLANK(E18),IF(ISBLANK(D18),IF(ISBLANK(C18),"X",0.1),0.35),0.7),1)*3 -> #VALUE! | I18: =COUNTA(C18:F18) -> 0
A19: Concevoir et réaliser un projet d’animation | B19: Eléments de la démarche de projet | C19: Construit un projet sans méthodologie | D19: Construit un projet avec une méthodologie incomplète et propose un projet peu réaliste ou inadapté aux attentes, besoins des publics | E19: Construit un projet avec méthodologie et des objectifs en lien avec les attentes, besoins des publics et caractéristiques du milieu professionnel | F19: Construit avec une méthodologie rigoureuse, un projet d’animation avec des objectifs clairs et pertinents en cohérence avec les attentes et besoins des publics, les objectifs de la structure et aux caractéristiques du milieu | H19: =IF(I20>1,"ATTENTION! TROP DE CROIX","")
B20: Barème :7 points | G20: =IF(ISBLANK(F20),IF(ISBLANK(E20),IF(ISBLANK(D20),IF(ISBLANK(C20),"X",0.1),0.35),0.7),1)*7 -> #VALUE! | I20: =COUNTA(C20:F20) -> 0
B21: Projet mis en œuvre et réalisé selon les principes de son élaboration | C21: N’atteint pas les objectifs définis au départ, projet non réalisé | D21: Atteint en partie les objectifs définis au départ, projet incomplètement réalisé | E21: Réalise le projet et a atteint la majorité des objectifs définis au départ | F21: A atteint tous les objectifs définis au départ tout en adaptant les actions au public et aux aléas | H21: =IF(I22>1,"ATTENTION! TROP DE CROIX","")
B22: Barème :3,5 points | G22: =IF(ISBLANK(F22),IF(ISBLANK(E22),IF(ISBLANK(D22),IF(ISBLANK(C22),"X",0.1),0.35),0.7),1)*3.5 -> #VALUE! | I22: =COUNTA(C22:F22) -> 0
B23: Démarche et outils d’évaluation | C23: N’utilise pas d’outils d’évaluation ou ne les maîtrise pas | D23: Mobilise partiellement quelques outils d’évaluation | E23: Choisit les outils d’évaluation adaptés | F23: Adapte et/ou élabore des outils d’évaluation opérationnels tout au long des étapes du projet | H23: =IF(I24>1,"ATTENTION! TROP DE CROIX","")
B24: Barème :3 points | G24: =IF(ISBLANK(F24),IF(ISBLANK(E24),IF(ISBLANK(D24),IF(ISBLANK(C24),"X",0.1),0.35),0.7),1)*3 -> #VALUE! | I24: =COUNTA(C24:F24) -> 0
A25: Identifier les caractéristiques et les attentes des personnes en perte d’autonomie | B25: Outils de recueil des caractéristiques du milieu professionnel, adaptés aux publics visés Précision et exhaustivité des observations Données utiles à la conception et à la réalisation du projet d’animation | C25: N’utilise pas d’outils de recueil des caractéristiques Ne sait pas repérer les caractéristiques du milieu | D25: Utilise un outil de recueil peu adapté Identifie les caractéristiques du milieu professionnel de manière incomplète | E25: Repère les caractéristiques du milieu professionnel (contexte d’exercice, projet d’accueil et d’accompagnement, projet personnel de la personne âgée, attentes et souhaits du public, potentialités et difficultés liées à l’état de santé ou l’isolement…) et recueille ces données à l’aide d’outils. | F25: Analyse avec justesse la majorité des données utiles ( contexte d’exercice, attentes et souhaits du public …) avec des outils de recueil adaptés | H25: =IF(I26>1,"ATTENTION! TROP DE CROIX","")
B26: Barème : 5,5 points | G26: =IF(ISBLANK(F26),IF(ISBLANK(E26),IF(ISBLANK(D26),IF(ISBLANK(C26),"X",0.1),0.35),0.7),1)*5.5 -> #VALUE! | I26: =COUNTA(C26:F26) -> 0
A27: Concevoir des activités de maintien de la vie relationnelle sociale et culturelle | B27: Activités de maintien de la vie relationnelle, sociale et culturelle - adaptées aux attentes et demandes des personnes âgées - en lien avec le projet de la structure - adaptées aux contraintes de l’environnement - adaptées aux capacités motrices, cognitives et sensorielles - articulées avec les interventions de l’équipe pluri professionnelle, des bénévoles, des partenaires - dans le respect des cadres réglementaires et de la sécurité - en prenant en compte l’impact de l’activité sur l’environnement | C27: Propose une activité de maintien de l’autonomie sociale qui ne respecte pas la sécurité physique, psychologique et affective | D27: Propose une activité de maintien de l’autonomie sociale qui ne prend pas en compte les attentes du public et le projet de la structure | E27: Conçoit une activité de maintien de l’autonomie sociale qui prend en compte -les attentes du public -le projet et les moyens disponibles de la structure -la sécurité physique, psychologique et affective des personnes âgées | F27: Conçoit une activité de maintien de l’autonomie sociale qui prend en compte tous les critères et se situe dans une progression de la participation des personnes. | H27: =IF(I28>1,"ATTENTION! TROP DE CROIX","")
B28: Barème :3 points | G28: =IF(ISBLANK(F28),IF(ISBLANK(E28),IF(ISBLANK(D28),IF(ISBLANK(C28),"X",0.1),0.35),0.7),1)*3 -> #VALUE! | I28: =COUNTA(C28:F28) -> 0
B29: Démarche d’animation justifiée : objectifs généraux et opérationnels de l’activité formulés et modes d’intervention précisés, choix d’une animation favorisant la mise en relation des personnes et des groupes | C29: N’adopte pas de démarche d’animation adaptée aux caractéristiques et attentes des personnes âgées | D29: Adopte une démarche d’animation partiellement formalisée et peu adaptée aux objectifs du projet d’animation | E29: Adopte une démarche d’animation adaptée aux objectifs du projet d’animation | F29: Conçoit une démarche d’animation , particulièrement adaptée aux souhaits des personnes tout en restant dans le cadre du projet institutionnel | H29: =IF(I30>1,"ATTENTION! TROP DE CROIX","")
B30: Barème :2 points | G30: =IF(ISBLANK(F30),IF(ISBLANK(E30),IF(ISBLANK(D30),IF(ISBLANK(C30),"X",0.1),0.35),0.7),1)*2 -> #VALUE! | I30: =COUNTA(C30:F30) -> 0
A31: Réaliser des activités de maintien de la vie relationnelle, sociale et culturelle | B31: Encouragement incitation, aide à participer aux activités, information, modes de communication | C31: Ne sollicite pas l’accord des personnes âgées | D31: Accompagne de façon sommaire la personne âgée vers l’activité. Anime les temps transitionnels et informels mais ne prend pas en compte les habitudes et le cadre de vie de la personne âgée | E31: Sensibilise et accompagne la personne âgée vers l’activité Anime les temps informels et transitionnels en prenant en compte habitudes et cadre de vie de la personne âgée | F31: Adopte une communication favorisant l’engagement et la participation de la personne âgée vers l’activité Mesure les enjeux des temps informels et transitionnels dans le quotidien de la personne âgée | H31: =IF(I32>1,"ATTENTION! TROP DE CROIX","")
B32: Barème : 1,5 point | G32: =IF(ISBLANK(F32),IF(ISBLANK(E32),IF(ISBLANK(D32),IF(ISBLANK(C32),"X",0.1),0.35),0.7),1)*1.5 -> #VALUE! | I32: =COUNTA(C32:F32) -> 0
B33: Adaptation des activités proposées Mise en œuvre de techniques participatives d’animation Sécurité physique et affective | C33: N’assure pas la sécurité physique psychologique et affective des personnes âgées | D33: Propose, en toute sécurité une activité peu adaptée aux souhaits, attentes et capacités des personnes. | E33: Propose en toute sécurité une activité adaptée aux souhaits et attentes des personnes. S’inscrit dans les projets de la structure | F33: Anime en toute sécurité une séance d’animation adaptée aux souhaits des personnes, avec un souci de démarche participative .S’inscrit dans les projets de la structure | H33: =IF(I34>1,"ATTENTION! TROP DE CROIX","")
B34: Barème : 1,5 point | G34: =IF(ISBLANK(F34),IF(ISBLANK(E34),IF(ISBLANK(D34),IF(ISBLANK(C34),"X",0.1),0.35),0.7),1)*1.5 -> #VALUE! | I34: =COUNTA(C34:F34) -> 0
B35: Respect de l’approche par la démarche « Pouvoir d’agir » des personnes âgées | C35: Ne tient pas compte des attentes et des capacités des personnes âgées | D35: Ne s’appuie pas suffisamment sur les attentes et les capacités des personnes âgées | E35: Mobilise des techniques participatives adaptées aux attentes et aux capacités motrices et cognitives des personnes âgées | F35: Accompagne chaque personne âgée dans ses réalisations, par la démarche participative | H35: =IF(I36>1,"ATTENTION! TROP DE CROIX","")
B36: Barème :0,5 point | G36: =IF(ISBLANK(F36),IF(ISBLANK(E36),IF(ISBLANK(D36),IF(ISBLANK(C36),"X",0.1),0.35),0.7),1)*0.5 -> #VALUE! | I36: =COUNTA(C36:F36) -> 0
B37: Efficacité de la gestion de groupe, communication adaptée au niveau individuel et collectif | C37: Ne tient pas compte des réactions des participants lors de l’animation | D37: N’adapte pas suffisamment l’activité aux comportements des personnes âgées, leur situation ou leurs envies, l’environnement | E37: Gère les personnes et le groupe et adapte le déroulement de l’activité aux réactions, aux imprévus | F37: Gère avec efficacité le groupe et sa dynamique en fonction des situations, en respectant la dimension individuelle et collective jusqu’à une posture de médiation | H37: =IF(I38>1,"ATTENTION! TROP DE CROIX","")
B38: Barème :1 point | G38: =IF(ISBLANK(F38),IF(ISBLANK(E38),IF(ISBLANK(D38),IF(ISBLANK(C38),"X",0.1),0.35),0.7),1)*1 -> #VALUE! | I38: =COUNTA(C38:F38) -> 0
B39: Procédure d’évaluation | C39: Ne propose pas d’évaluation | D39: Propose une évaluation sommaire avec les participants à la fin des activités et ne la prend pas en compte | E39: Propose, à l’aide d’un outil pertinent, une évaluation aux participants à la fin des activités et la prend en compte pour faire évoluer l’action | F39: Propose, à l’aide d’un outil qu’il sait élaborer ou adapter, une évaluation avec les participants à la fin des activités et la prend en compte pour faire évoluer l’action | H39: =IF(I40>1,"ATTENTION! TROP DE CROIX","")
B40: Barème :1 point | G40: =IF(ISBLANK(F40),IF(ISBLANK(E40),IF(ISBLANK(D40),IF(ISBLANK(C40),"X",0.1),0.35),0.7),1)*1 -> #VALUE! | I40: =COUNTA(C40:F40) -> 0
A41: Mettre en œuvre une communication professionnelle au sein de la structure et en direction des acteurs | B41: Efficacité de la communication écrite | C41: Rédige le projet d’animation de façon inappropriée et inefficace | D41: Rédige le projet d’animation de manière peu structurée Propose dans le cadre du projet d’animation, des supports de communication peu pertinents | E41: Rédige le projet d’animation avec rigueur Propose dans le cadre du projet d’animation des supports de communication variés | F41: Fait preuve de qualités rédactionnelles pour le projet d’animation Elabore personnellement dans le cadre du projet d’animation des supports de communication pertinents, variés et opérationnels | H41: =IF(I42>1,"ATTENTION! TROP DE CROIX","")
B42: Barème :1,5 points | G42: =IF(ISBLANK(F42),IF(ISBLANK(E42),IF(ISBLANK(D42),IF(ISBLANK(C42),"X",0.1),0.35),0.7),1)*1.5 -> #VALUE! | I42: =COUNTA(C42:F42) -> 0
B43: Techniques de communication adaptées aux situations professionnelles et aux différents publics | C43: Ne rend pas compte des échanges avec les différents acteurs | D43: Ne rend pas suffisamment compte des échanges avec les différents acteurs | E43: Rend compte de sa contribution dans les échanges avec les différents acteurs | F43: Rend compte de ses initiatives favorisant les échanges entre les différents acteurs | H43: =IF(I44>1,"ATTENTION! TROP DE CROIX","")
...

Sheet E31
A1: Académie de : | B1: =IF(ISBLANK('Synthèse'!B7),"",'Synthèse'!B7) | D1: Session : | E1: =IF(ISBLANK('Synthèse'!E7),"",'Synthèse'!E7)
A2: Nom du candidat | B2: =IF(ISBLANK('Synthèse'!B8),"",'Synthèse'!B8)
A3: Etablissement de formation | B3: =IF(ISBLANK('Synthèse'!B9),"",'Synthèse'!B9) | D3: Date :
A5: BCP ANIMATION ENFANCE ET PERSONNES AGEES - CCF
A6: Sous épreuve E31 : Animation visant le maintien de l’autonomie sociale et le bien être personnel en établissement ou à domicile
A7: Epreuve pratique et orale menée en milieu professionnel
B9: PARTIE PRATIQUE : séance d’animation auprès des personnes âgées
A10: Compétences évaluées | B10: Critères d’évaluation | C10: Indicateurs et niveaux de réussite | G10: Note
C11: Non réussi 10% | D11: Insuffisamment réussi 35% | E11: Réussi 70% | F11: Bien réussi 100%
A13: Réaliser des activités de maintien de la vie relationnelle, sociale et culturelle | B13: Adaptation des activités proposées Mise en œuvre de techniques participatives d’animation Sécurité physique et affective | C13: N’assure pas la sécurité physique psychologique et affective des personnes âgées | D13: Propose, en toute sécurité une activité peu adaptée aux souhaits, attentes et capacités des personnes. | E13: Propose en toute sécurité une activité adaptée aux souhaits et attentes des personnes. S’inscrit dans les projets de la structure | F13: Anime en toute sécurité une séance d’animation adaptée aux souhaits des personnes, avec un souci de démarche participative .S’inscrit dans les projets de la structure | H13: =IF(I14>1,"ATTENTION! TROP DE CROIX","")
B14: Barème : 16 points | G14: =IF(ISBLANK(F14),IF(ISBLANK(E14),IF(ISBLANK(D14),IF(ISBLANK(C14),"X",0.1),0.35),0.7),1)*16 -> #VALUE! | I14: =COUNTA(C14:F14) -> 0
B15: Respect de l’approche par la démarche « Pouvoir d’agir » des personnes âgées | C15: Ne tient pas compte des attentes et des capacités des personnes âgées | D15: Ne s’appuie pas suffisamment sur les attentes et les capacités des personnes âgées | E15: Mobilise des techniques participatives adaptées aux attentes et aux capacités motrices et cognitives des personnes âgées | F15: Accompagne chaque personne âgée dans ses réalisations, par la démarche participative | H15: =IF(I16>1,"ATTENTION! TROP DE CROIX","")
B16: Barème :10 points | G16: =IF(ISBLANK(F16),IF(ISBLANK(E16),IF(ISBLANK(D16),IF(ISBLANK(C16),"X",0.1),0.35),0.7),1)*10 -> #VALUE! | I16: =COUNTA(C16:F16) -> 0
B17: Efficacité de la gestion de groupe, communication adaptée au niveau individuel et collectif | C17: Ne tient pas compte des réactions des participants lors de l’animation | D17: N’adapte pas suffisamment l’activité aux comportements des personnes âgées, leur situation ou leurs envies, l’environnement | E17: Gère les personnes et le groupe et adapte le déroulement de l’activité aux réactions, aux imprévus | F17: Gère avec efficacité le groupe et sa dynamique en fonction des situations, en respectant la dimension individuelle et collective jusqu’à une posture de médiation | H17: =IF(I18>1,"ATTENTION! TROP DE CROIX","")
B18: Barème :16 points | G18: =IF(ISBLANK(F18),IF(ISBLANK(E18),IF(ISBLANK(D18),IF(ISBLANK(C18),"X",0.1),0.35),0.7),1)*16 -> #VALUE! | I18: =COUNTA(C18:F18) -> 0
B19: Procédure d’évaluation | C19: Ne propose pas d’évaluation | D19: Propose une évaluation sommaire avec les participants à la fin des activités et ne la prend pas en compte | E19: Propose, à l’aide d’un outil pertinent, une évaluation aux participants à la fin des activités et la prend en compte pour faire évoluer l’action | F19: Propose, à l’aide d’un outil qu’il sait élaborer ou adapter, une évaluation avec les participants à la fin des activités et la prend en compte pour faire évoluer l’action | H19: =IF(I20>1,"ATTENTION! TROP DE CROIX","")
B20: Barème :6 points | G20: =IF(ISBLANK(F20),IF(ISBLANK(E20),IF(ISBLANK(D20),IF(ISBLANK(C20),"X",0.1),0.35),0.7),1)*6 -> #VALUE! | I20: =COUNTA(C20:F20) -> 0
A21: NOTE CALCULEE AUTOMATIQUEMENT ( Indicative) | D21: =IF(I21=4,SUM(G14,G16,G18,G20),"Calcul impossible-Revoir le nb de positionnements") -> Calcul impossible-Revoir le nb de positionnements | G21: / 48 | I21: =SUM(I20,I18,I16,I14) -> 0
A22: NOTE PROPOSEE PAR LE JURY | G22: / 48
B25: PARTIE ORALE : Présentation et analyse de la séance d’animation auprès des personnes âgées
A26: Compétences évaluées | B26: Critères d’évaluation | C26: Indicateurs et niveaux de réussite | G26: Note
C27: Non réussi 10% | D27: Insuffisamment réussi 35% | E27: Réussi 70% | F27: Bien réussi 100%
A29: Identifier les caractéristiques et les attentes des personnes en perte d’autonomie | B29: Outils de recueil des caractéristiques du milieu professionnel, adaptés aux publics visés Précision et exhaustivité des observations Données utiles à la conception et à la réalisation du projet d’animation | C29: N’utilise pas d’outils de recueil des caractéristiques Ne sait pas repérer les caractéristiques du milieu | D29: Utilise un outil de recueil peu adapté Identifie les caractéristiques du milieu professionnel de manière incomplète | E29: Repère les caractéristiques du milieu professionnel (contexte d’exercice, projet d’accueil et d’accompagnement, projet personnel de la personne âgée, attentes et souhaits du public, potentialités et difficultés liées à l’état de santé ou l’isolement…) et recueille ces données à l’aide d’outils. | F29: Analyse avec justesse la majorité des données utiles ( contexte d’exercice, attentes et souhaits du public …) avec des outils de recueil adaptés | H29: =IF(I30>1,"ATTENTION! TROP DE CROIX","")
B30: Barème : 4 points | G30: =IF(ISBLANK(F30),IF(ISBLANK(E30),IF(ISBLANK(D30),IF(ISBLANK(C30),"X",0.1),0.35),0.7),1)*4 -> #VALUE! | I30: =COUNTA(C30:F30) -> 0
B31: Maîtrise des savoirs associés en lien avec l’analyse des caractéristiques et attentes des personnes âgées en perte d’autonomie : connaissance de la personne âgée accueillie en établissement, cadre de vie et vie sociale des personnes âgées, méthodologie de recueil de données, travail en équipe pluri professionnelle en établissement | C31: Ne maîtrise pas les savoirs associés en lien avec l’analyse des caractéristiques et attentes des personnes âgées en perte d’autonomie | D31: Montre des lacunes ou commet des erreurs autour des savoirs associés en lien l’analyse des caractéristiques et attentes des personnes âgées en perte d’autonomie | E31: Mobilise la majorité des savoirs associés en lien l’analyse des caractéristiques et attentes des personnes âgées en perte d’autonomie | F31: Propose des réponses pertinentes , argumentées et précises en lien avec l’analyse des caractéristiques et attentes des personnes âgées en perte d’autonomie | H31: =IF(I32>1,"ATTENTION! TROP DE CROIX","")
B32: Barème : 4 points | G32: =IF(ISBLANK(F32),IF(ISBLANK(E32),IF(ISBLANK(D32),IF(ISBLANK(C32),"X",0.1),0.35),0.7),1)*4 -> #VALUE! | I32: =COUNTA(C32:F32) -> 0
A33: Concevoir des activités de maintien de la vie relationnelle sociale et culturelle | B33: Activités de maintien de la vie relationnelle, sociale et culturelle - adaptées aux attentes et demandes des personnes âgées - en lien avec le projet de la structure - adaptées aux contraintes de l’environnement - adaptées aux capacités motrices, cognitives et sensorielles - articulées avec les interventions de l’équipe pluri professionnelle, des bénévoles, des partenaires - dans le respect des cadres réglementaires et de la sécurité - en prenant en compte l’impact de l’activité sur l’environnement | C33: Propose une activité de maintien de l’autonomie sociale qui ne respecte pas la sécurité physique, psychologique et affective | D33: Propose une activité de maintien de l’autonomie sociale qui ne prend pas en compte les attentes du public et le projet de la structure | E33: Conçoit une activité de maintien de l’autonomie sociale qui prend en compte -les attentes du public -le projet et les moyens disponibles de la structure -la sécurité physique, psychologique et affective des personnes âgées | F33: Conçoit une activité de maintien de l’autonomie sociale qui prend en compte tous les critères et se situe dans une progression de la participation des personnes. | H33: =IF(I34>1,"ATTENTION! TROP DE CROIX","")
B34: Barème :3 points | E34: v | G34: =IF(ISBLANK(F34),IF(ISBLANK(E34),IF(ISBLANK(D34),IF(ISBLANK(C34),"X",0.1),0.35),0.7),1)*3 -> 2.1 | I34: =COUNTA(C34:F34) -> 1
B35: Démarche d’animation justifiée : objectifs généraux et opérationnels de l’activité formulés et modes d’intervention précisés, choix d’une animation favorisant la mise en relation des personnes et des groupes | C35: N’adopte pas de démarche d’animation adaptée aux caractéristiques et attentes des personnes âgées | D35: Adopte une démarche d’animation partiellement formalisée et peu adaptée aux objectifs du projet d’animation | E35: Adopte une démarche d’animation adaptée aux objectifs du projet d’animation | F35: Conçoit une démarche d’animation , particulièrement adaptée aux souhaits des personnes tout en restant dans le cadre du projet institutionnel | H35: =IF(I36>1,"ATTENTION! TROP DE CROIX","")
B36: Barème :3 points | G36: =IF(ISBLANK(F36),IF(ISBLANK(E36),IF(ISBLANK(D36),IF(ISBLANK(C36),"X",0.1),0.35),0.7),1)*3 -> #VALUE! | I36: =COUNTA(C36:F36) -> 0
B37: Maîtrise des savoirs associés en lien avec la conception des activités de maintien de la vie relationnelle, sociale et culturelle : l’animation de la vie sociale, objectifs et aspects techniques des différentes activités…. | C37: Ne maîtrise pas les savoirs associés en lien avec la conception des activités de maintien de la vie relationnelle, sociale et culturelle | D37: Montre des lacunes ou commet des erreurs autour des savoirs associés en lien avec la conception des activités de maintien de la vie relationnelle, sociale et culturelle | E37: Mobilise la majorité des savoirs associés en lien avec la conception des activités de maintien de la vie relationnelle, sociale et culturelle | F37: Propose des réponses pertinentes argumentées et précises en lien avec la conception des activités de maintien de la vie relationnelle, sociale et culturelle | H37: =IF(I38>1,"ATTENTION! TROP DE CROIX","")
B38: Barème :2 points | G38: =IF(ISBLANK(F38),IF(ISBLANK(E38),IF(ISBLANK(D38),IF(ISBLANK(C38),"X",0.1),0.35),0.7),1)*2 -> #VALUE! | I38: =COUNTA(C38:F38) -> 0
A39: Justifier et approfondir les éléments constitutifs de la séance d’animation | B39: Justification et approfondissement des éléments repérés lors de l’observation de la séance d’animation et lors de la présentation des supports d’animation : qualité de l’argumentation | C39: Ne formule pas d’argumentation sur les éléments repérés lors de la séance d’animation et sur les supports fournis | D39: Formule quelques argumentations sur les éléments repérés lors de la séance et sur les supports | E39: Argumente convenablement les éléments repérés lors de la séance d’animation et sur les supports | F39: Propose une argumentation riche, de qualité sur les éléments repérés lors de la séance d’animation et sur les supports | H39: =IF(I40>1,"ATTENTION! TROP DE CROIX","")
B40: Barème : 5 points | G40: =IF(ISBLANK(F40),IF(ISBLANK(E40),IF(ISBLANK(D40),IF(ISBLANK(C40),"X",0.1),0.35),0.7),1)*5 -> #VALUE! | I40: =COUNTA(C40:F40) -> 0
A41: Conduire une analyse réflexive de sa pratique professionnelle | B41: Outils pour l’analyse de pratique, démarche d’analyse de pratique, justification et remédiation | C41: N’analyse pas sa pratique professionnelle : absence d’outil, de démarche et absence de vision de son rôle | D41: Analyse de façon incomplète sa pratique professionnelle : outil ou démarche inadaptés N’explicite pas ses points forts et insuffisants | E41: Analyse sa pratique professionnelle de manière cohérente : outil et démarche adaptés. Identifie des points forts et insuffisants par rapport à ses actions et à ses démarches | F41: Analyse sa pratique professionnelle avec rigueur, l’explicite, propose et met en place des actions correctives | H41: =IF(I42>1,"ATTENTION! TROP DE CROIX","")
B42: Barème :5 points | G42: =IF(ISBLANK(F42),IF(ISBLANK(E42),IF(ISBLANK(D42),IF(ISBLANK(C42),"X",0.1),0.35),0.7),1)*5 -> #VALUE! | I42: =COUNTA(C42:F42) -> 0
A43: Présenter et justifier une animation visant le maintien de l’autonomie sociale et le bien être personnel en établissement ou à domicile | B43: Respect du temps imparti de présentation des supports d’animation Clarté de l’expression Qualité d’écoute et aptitude au dialogue Utilisation d’un vocabulaire professionnel Réactivité, dynamisme, conviction. | C43: Ne respecte pas les attendus de la présentation et de l’entretien | D43: Respecte partiellement les attendus de la présentation et de l’entretien | E43: Respecte la majorité des attendus de la présentation et de l’entretien | F43: Respecte tous les attendus de la présentation et de l’entretien | H43: =IF(I44>1,"ATTENTION! TROP DE CROIX","")
B44: Barème :6 points | G44: =IF(ISBLANK(F44),IF(ISBLANK(E44),IF(ISBLANK(D44),IF(ISBLANK(C44),"X",0.1),0.35),0.7),1)*6 -> #VALUE! | I44: =COUNTA(C44:F44) -> 0
A45: NOTE CALCULEE AUTOMATIQUEMENT ( Indicative) | D45: =IF(I45=8,SUM(G30+G32+G34+G36+G38+G40+G42+G44),"Calcul impossible-Revoir le nb de positionnements") -> Calcul impossible-Revoir le nb de positionnements | G45: / 32 | I45: =SUM(I44,I42,I40,I38,I36,I34,I32,I30) -> 1
A46: NOTE PROPOSEE PAR LE JURY | G46: / 32
...

Sheet E32
A1: Académie de : | B1: =IF(ISBLANK('Synthèse'!B7),"",'Synthèse'!B7) | D1: Session : | E1: =IF(ISBLANK('Synthèse'!E7),"",'Synthèse'!E7)
A2: Nom du candidat | B2: =IF(ISBLANK('Synthèse'!B8),"",'Synthèse'!B8)
A3: Etablissement de formation | B3: =IF(ISBLANK('Synthèse'!B9),"",'Synthèse'!B9) | D3: Date :
A5: BCP ANIMATION ENFANCE ET PERSONNES AGEES - CCF
A6: Sous épreuve E32 : Animation visant l’épanouissement, la socialisation et l’exercice des droits citoyens
A7: Epreuve pratique et orale menée en milieu professionnel
B9: PARTIE PRATIQUE : séance d’animation auprès des enfants
A10: Compétences évaluées | B10: Critères d’évaluation | C10: Indicateurs et niveaux de réussite | G10: Note
C11: Non réussi 10% | D11: Insuffisamment réussi 35% | E11: Réussi 70% | F11: Bien réussi 100%
A13: Réaliser des activités socioéducatives et socioculturelles | B13: Mise en œuvre des activités et des techniques participatives d’animation Qualité et pertinence des activités proposées Gestion du temps, des espaces et des matériels Respect des règles et consignes de sécurité | C13: N’assure pas de manière satisfaisante la sécurité des enfants | D13: Propose en toute sécurité, une activité peu adaptée aux objectifs d’épanouissement, de socialisation et d’exercice des droits citoyens. | E13: Propose en toute sécurité une activité qui concourt à l’épanouissement, la socialisation et l’exercice des droits citoyens S’inscrit dans le projet de la structure | F13: Anime en toute sécurité une séance d’animation pertinente permettant l’épanouissement, la socialisation et l’exercice des droits citoyens, mobilisant des démarches éducatives pertinentes S’inscrit dans le projet de la structure
B14: Barème : 19 points | G14: =IF(ISBLANK(F14),IF(ISBLANK(E14),IF(ISBLANK(D14),IF(ISBLANK(C14),"X",0.1),0.35),0.7),1)*19 -> #VALUE! | I14: =COUNTA(C14:F14) -> 0
B15: Régulation du groupe Adaptation aux situations rencontrées Posture d’écoute et de médiation Adaptation du déroulement de l’activité aux réactions du groupe | C15: Ne tient pas compte des réactions des enfants lors de l’animation | D15: N’adapte pas suffisamment l’activité aux comportements des enfants N'est pas suffisamment dans une posture d’écoute | E15: Gère le groupe et adapte le déroulement de l’activité aux réactions, aux imprévus | F15: Gère avec efficacité le groupe d’enfants et sa dynamique en fonction des situations, en respectant la dimension individuelle et collective jusqu’à une posture de médiation
B16: Barème :19 points | G16: =IF(ISBLANK(F16),IF(ISBLANK(E16),IF(ISBLANK(D16),IF(ISBLANK(C16),"X",0.1),0.35),0.7),1)*19 -> #VALUE! | I16: =COUNTA(C16:F16) -> 0
B17: Outils d’évaluation pertinents Prise en compte des avis du public dans la perspective de l’évolution de l’activité ou d’une nouvelle activité | C17: Ne propose pas d’évaluation | D17: Propose une évaluation sommaire avec les participants à la fin des activités et ne la prend pas en compte | E17: Propose, à l’aide d’un outil pertinent, une évaluation aux participants à la fin des activités et la prend en compte pour faire évoluer l’action | F17: Propose, à l’aide d’un outil qu’il sait élaborer ou adapter, une évaluation avec les participants à la fin des activités et la prend en compte pour faire évoluer l’action
B18: Barème :10 points | G18: =IF(ISBLANK(F18),IF(ISBLANK(E18),IF(ISBLANK(D18),IF(ISBLANK(C18),"X",0.1),0.35),0.7),1)*10 -> #VALUE! | I18: =COUNTA(C18:F18) -> 0
A19: NOTE CALCULEE AUTOMATIQUEMENT ( Indicative) | D19: =IF(I19=3,SUM(G14,G16,G18),"Calcul impossible-Revoir le nb de positionnements") -> Calcul impossible-Revoir le nb de positionnements | G19: / 48 | I19: =SUM(I18+I16+I14) -> 0
